BEGIN:VCALENDAR
VERSION:2.0
PRODID:-//Wohnungsbaugenossenschaft &quot;Wendenschloss&quot; eG - ECPv6.15.20//NONSGML v1.0//EN
CALSCALE:GREGORIAN
METHOD:PUBLISH
X-WR-CALNAME:Wohnungsbaugenossenschaft &quot;Wendenschloss&quot; eG
X-ORIGINAL-URL:https://wbg-wendenschloss.de
X-WR-CALDESC:Veranstaltungen für Wohnungsbaugenossenschaft &quot;Wendenschloss&quot; eG
REFRESH-INTERVAL;VALUE=DURATION:PT1H
X-Robots-Tag:noindex
X-PUBLISHED-TTL:PT1H
BEGIN:VTIMEZONE
TZID:Europe/Berlin
BEGIN:DAYLIGHT
TZOFFSETFROM:+0100
TZOFFSETTO:+0200
TZNAME:CEST
DTSTART:20250330T010000
END:DAYLIGHT
BEGIN:STANDARD
TZOFFSETFROM:+0200
TZOFFSETTO:+0100
TZNAME:CET
DTSTART:20251026T010000
END:STANDARD
BEGIN:DAYLIGHT
TZOFFSETFROM:+0100
TZOFFSETTO:+0200
TZNAME:CEST
DTSTART:20260329T010000
END:DAYLIGHT
BEGIN:STANDARD
TZOFFSETFROM:+0200
TZOFFSETTO:+0100
TZNAME:CET
DTSTART:20261025T010000
END:STANDARD
BEGIN:DAYLIGHT
TZOFFSETFROM:+0100
TZOFFSETTO:+0200
TZNAME:CEST
DTSTART:20270328T010000
END:DAYLIGHT
BEGIN:STANDARD
TZOFFSETFROM:+0200
TZOFFSETTO:+0100
TZNAME:CET
DTSTART:20271031T010000
END:STANDARD
END:VTIMEZONE
BEGIN:VEVENT
DTSTART;TZID=Europe/Berlin:20260421T100000
DTEND;TZID=Europe/Berlin:20260421T120000
DTSTAMP:20260421T022500
CREATED:20221205T102543Z
LAST-MODIFIED:20260402T123933Z
UID:2274-1776765600-1776772800@wbg-wendenschloss.de
SUMMARY:Gemeinsames Frühstück
DESCRIPTION:Neujahrsfrühstück: \nLiebevoll von Ehrenamtlern vorbereitet\, wird wieder zum gemeinsamen Frühstück eingeladen. \n 
URL:https://wbg-wendenschloss.de/veranstaltung/fruehstueck-7/
LOCATION:Mietertreff\, Wendenschloßstr. 331\, 12557 Berlin
CATEGORIES:Genossenschaft,Soziales
END:VEVENT
BEGIN:VEVENT
DTSTART;TZID=Europe/Berlin:20260421T150000
DTEND;TZID=Europe/Berlin:20260421T163000
DTSTAMP:20260421T022500
CREATED:20230928T090424Z
LAST-MODIFIED:20260402T123441Z
UID:2254-1776783600-1776789000@wbg-wendenschloss.de
SUMMARY:Gedächtnistraining mit Sabine
DESCRIPTION:Gehirnjogging ab >60
URL:https://wbg-wendenschloss.de/veranstaltung/gedaechtnistraining-mit-sabine-4/
LOCATION:Mietertreff\, Wendenschloßstr. 331\, 12557 Berlin
CATEGORIES:Genossenschaft,Kurse,Soziales
END:VEVENT
END:VCALENDAR