BEGIN:VCALENDAR
VERSION:2.0
PRODID:-//Wohnungsbaugenossenschaft &quot;Wendenschloss&quot; eG - ECPv6.15.20//NONSGML v1.0//EN
CALSCALE:GREGORIAN
METHOD:PUBLISH
X-WR-CALNAME:Wohnungsbaugenossenschaft &quot;Wendenschloss&quot; eG
X-ORIGINAL-URL:https://wbg-wendenschloss.de
X-WR-CALDESC:Veranstaltungen für Wohnungsbaugenossenschaft &quot;Wendenschloss&quot; eG
REFRESH-INTERVAL;VALUE=DURATION:PT1H
X-Robots-Tag:noindex
X-PUBLISHED-TTL:PT1H
BEGIN:VTIMEZONE
TZID:Europe/Berlin
BEGIN:DAYLIGHT
TZOFFSETFROM:+0100
TZOFFSETTO:+0200
TZNAME:CEST
DTSTART:20250330T010000
END:DAYLIGHT
BEGIN:STANDARD
TZOFFSETFROM:+0200
TZOFFSETTO:+0100
TZNAME:CET
DTSTART:20251026T010000
END:STANDARD
BEGIN:DAYLIGHT
TZOFFSETFROM:+0100
TZOFFSETTO:+0200
TZNAME:CEST
DTSTART:20260329T010000
END:DAYLIGHT
BEGIN:STANDARD
TZOFFSETFROM:+0200
TZOFFSETTO:+0100
TZNAME:CET
DTSTART:20261025T010000
END:STANDARD
BEGIN:DAYLIGHT
TZOFFSETFROM:+0100
TZOFFSETTO:+0200
TZNAME:CEST
DTSTART:20270328T010000
END:DAYLIGHT
BEGIN:STANDARD
TZOFFSETFROM:+0200
TZOFFSETTO:+0100
TZNAME:CET
DTSTART:20271031T010000
END:STANDARD
END:VTIMEZONE
BEGIN:VEVENT
DTSTART;TZID=Europe/Berlin:20260423T100000
DTEND;TZID=Europe/Berlin:20260423T110000
DTSTAMP:20260423T015633
CREATED:20220602T121255Z
LAST-MODIFIED:20260402T125309Z
UID:2703-1776938400-1776942000@wbg-wendenschloss.de
SUMMARY:Gesundheitssport für Senioren / Gr. 2
DESCRIPTION:Spezielle Übungen gegen Muskelabbau und für Fitness speziell für Senioren unter Anleitung der Physiotherapeutin\nKathrin Michaelis
URL:https://wbg-wendenschloss.de/veranstaltung/gesundheitssport-fuer-senioren-gr-2-6/
LOCATION:Mietertreff\, Wendenschloßstr. 331\, 12557 Berlin
CATEGORIES:Genossenschaft,Kurse,Sport
END:VEVENT
BEGIN:VEVENT
DTSTART;TZID=Europe/Berlin:20260423T113000
DTEND;TZID=Europe/Berlin:20260423T123000
DTSTAMP:20260423T015633
CREATED:20230906T115923Z
LAST-MODIFIED:20260402T124347Z
UID:2687-1776943800-1776947400@wbg-wendenschloss.de
SUMMARY:Übungsstunde mit dem IDOGO-Stab
DESCRIPTION:Der IDOGO-Stab ist ein 40cm langer Stab. Er verbindet Bewegungsabläufe aus QiGong ; TaiChi\, Yoga\, westl. Entspannungsübungen\, Tanz und Ballett zu einem Übungsablauf. \n 
URL:https://wbg-wendenschloss.de/veranstaltung/uebungsstunde-mit-dem-idogo-stab-4/
LOCATION:Mietertreff\, Wendenschloßstr. 331\, 12557 Berlin
CATEGORIES:Genossenschaft,Kurse,Soziales,Sport
END:VEVENT
BEGIN:VEVENT
DTSTART;TZID=Europe/Berlin:20260423T140000
DTEND;TZID=Europe/Berlin:20260423T160000
DTSTAMP:20260423T015633
CREATED:20220426T191935Z
LAST-MODIFIED:20260402T124502Z
UID:2679-1776952800-1776960000@wbg-wendenschloss.de
SUMMARY:Aquarellmalerei mit Christel Hein
DESCRIPTION:Neue Gesichter sind jederezeit willkommen.
URL:https://wbg-wendenschloss.de/veranstaltung/aquarellmalerei-mit-christel-hein-5/
CATEGORIES:Kreatives,Kurse
END:VEVENT
END:VCALENDAR