BEGIN:VCALENDAR
VERSION:2.0
PRODID:-//Wohnungsbaugenossenschaft &quot;Wendenschloss&quot; eG - ECPv6.15.20//NONSGML v1.0//EN
CALSCALE:GREGORIAN
METHOD:PUBLISH
X-ORIGINAL-URL:https://wbg-wendenschloss.de
X-WR-CALDESC:Veranstaltungen für Wohnungsbaugenossenschaft &quot;Wendenschloss&quot; eG
REFRESH-INTERVAL;VALUE=DURATION:PT1H
X-Robots-Tag:noindex
X-PUBLISHED-TTL:PT1H
BEGIN:VTIMEZONE
TZID:Europe/Berlin
BEGIN:DAYLIGHT
TZOFFSETFROM:+0100
TZOFFSETTO:+0200
TZNAME:CEST
DTSTART:20230326T010000
END:DAYLIGHT
BEGIN:STANDARD
TZOFFSETFROM:+0200
TZOFFSETTO:+0100
TZNAME:CET
DTSTART:20231029T010000
END:STANDARD
BEGIN:DAYLIGHT
TZOFFSETFROM:+0100
TZOFFSETTO:+0200
TZNAME:CEST
DTSTART:20240331T010000
END:DAYLIGHT
BEGIN:STANDARD
TZOFFSETFROM:+0200
TZOFFSETTO:+0100
TZNAME:CET
DTSTART:20241027T010000
END:STANDARD
BEGIN:DAYLIGHT
TZOFFSETFROM:+0100
TZOFFSETTO:+0200
TZNAME:CEST
DTSTART:20250330T010000
END:DAYLIGHT
BEGIN:STANDARD
TZOFFSETFROM:+0200
TZOFFSETTO:+0100
TZNAME:CET
DTSTART:20251026T010000
END:STANDARD
END:VTIMEZONE
BEGIN:VEVENT
DTSTART;TZID=Europe/Berlin:20240304T190000
DTEND;TZID=Europe/Berlin:20240304T203000
DTSTAMP:20260424T154511
CREATED:20240222T080902Z
LAST-MODIFIED:20240306T130332Z
UID:2279-1709578800-1709584200@wbg-wendenschloss.de
SUMMARY:Personal Training- abgesagt
DESCRIPTION:  \n 
URL:https://wbg-wendenschloss.de/veranstaltung/personal-training/
LOCATION:Mietertreff\, Wendenschloßstr. 331\, 12557 Berlin
CATEGORIES:Kurse,Sport
END:VEVENT
BEGIN:VEVENT
DTSTART;TZID=Europe/Berlin:20240312T150000
DTEND;TZID=Europe/Berlin:20240312T170000
DTSTAMP:20260424T154511
CREATED:20230928T090714Z
LAST-MODIFIED:20240214T130519Z
UID:2065-1710255600-1710262800@wbg-wendenschloss.de
SUMMARY:Bingo-Nachmittag mit Sabine
DESCRIPTION:
URL:https://wbg-wendenschloss.de/veranstaltung/bingo-nachmittag-mit-sabine/
LOCATION:Mietertreff\, Wendenschloßstr. 331\, 12557 Berlin
CATEGORIES:Genossenschaft,Soziales
END:VEVENT
BEGIN:VEVENT
DTSTART;TZID=Europe/Berlin:20240319T150000
DTEND;TZID=Europe/Berlin:20240319T163000
DTSTAMP:20260424T154511
CREATED:20230928T090424Z
LAST-MODIFIED:20240214T130337Z
UID:2250-1710860400-1710865800@wbg-wendenschloss.de
SUMMARY:Gedächtnistraining mit Sabine
DESCRIPTION:Gehirnjogging ab >60
URL:https://wbg-wendenschloss.de/veranstaltung/gedaechtnistraining-mit-sabine-2/
CATEGORIES:Genossenschaft,Kurse,Soziales
END:VEVENT
END:VCALENDAR